BEGIN:VCALENDAR
VERSION:2.0
PRODID:-//The Hey Sis Project - ECPv6.15.11//NONSGML v1.0//EN
CALSCALE:GREGORIAN
METHOD:PUBLISH
X-ORIGINAL-URL:https://www.theheysisproject.com
X-WR-CALDESC:Events for The Hey Sis Project
REFRESH-INTERVAL;VALUE=DURATION:PT1H
X-Robots-Tag:noindex
X-PUBLISHED-TTL:PT1H
BEGIN:VTIMEZONE
TZID:Asia/Shanghai
BEGIN:STANDARD
TZOFFSETFROM:+0800
TZOFFSETTO:+0800
TZNAME:CST
DTSTART:20230101T000000
END:STANDARD
END:VTIMEZONE
BEGIN:VEVENT
DTSTART;TZID=Asia/Shanghai:20241109T130000
DTEND;TZID=Asia/Shanghai:20241109T160000
DTSTAMP:20260420T195918
CREATED:20241104T062213Z
LAST-MODIFIED:20241209T063655Z
UID:26741-1731157200-1731168000@www.theheysisproject.com
SUMMARY:Fundraising for McGrath Breast Cancer Foundation
DESCRIPTION:Join us at Parkes Tennis Club on Saturday\, 9th November from 1:00 PM to 4:00 PM for an afternoon of fun tennis\, music\, afternoon tea\, raffles\, and more – all in support of the McGrath Breast Cancer Foundation! \nRegister now for just $5! \nContact me at 0466417716 or DM me on Instagram. \nRegistrations close 4th of November – don’t miss out!! \nJust a little reminder\, donations are still open and any amount is greatly appreciated☺️ \n#pinkisthecolour #breastcancerawareness #mcgrathfoundation
URL:https://www.theheysisproject.com/event/fundraising-for-mcgrath-breast-cancer-foundation/
LOCATION:Parkes Tennis Club\, Victoria Street\,\, Parkes\, New South Wales\, Australia
CATEGORIES:Fundraising
ATTACH;FMTTYPE=image/jpeg:https://www.theheysisproject.com/wp-content/uploads/2024/12/theheysisproject-McGrath-fundraising-event-2024.jpg
END:VEVENT
END:VCALENDAR